BEGIN:VCALENDAR
VERSION:2.0
PRODID:-//Coeliac UK//NONSGML v1.0//EN
CALSCALE:GREGORIAN
METHOD:PUBLISH
BEGIN:VEVENT
UID:69e9df43ca89d@www.coeliac.org.uk
DTSTAMP:20260423T085843Z
DTSTART:20260620T110000Z
DTEND:20260620T123000Z
SUMMARY:Sevenoaks and Tunbridge Wells Zoom Coffee and Chat
DESCRIPTION:Make yourself a cuppa and log on in the comfort of your own home and join our fantastic Sevenoaks volunteers and others who need to live gluten free. Contact sevenoaks@coeliac.org.uk for further details.
STATUS:CONFIRMED
TRANSP:OPAQUE
END:VEVENT
END:VCALENDAR
