BEGIN:VCALENDAR
VERSION:2.0
PRODID:-//Coeliac UK//NONSGML v1.0//EN
CALSCALE:GREGORIAN
METHOD:PUBLISH
BEGIN:VEVENT
UID:69e90977cee2c@www.coeliac.org.uk
DTSTAMP:20260422T174631Z
DTSTART:20260425T103000Z
DTEND:20260425T123000Z
SUMMARY:Cardiff Local Group Kids and Teens Meet Up
DESCRIPTION:Come and join our fantastic Cardiff volunteers and other families with children and teens who need to live gluten free and connect, share experiences, and support each other in a relaxed, friendly space.
LOCATION:Community Room. Asda Cardiff Bay, Ferry Road, Cardiff, CF11 0JR
STATUS:CONFIRMED
TRANSP:OPAQUE
END:VEVENT
END:VCALENDAR
