BEGIN:VCALENDAR
VERSION:2.0
PRODID:-//Coeliac UK//NONSGML v1.0//EN
CALSCALE:GREGORIAN
METHOD:PUBLISH
BEGIN:VEVENT
UID:69e8eaa1d58f0@www.coeliac.org.uk
DTSTAMP:20260422T153457Z
DTSTART:20260424T110000Z
DTEND:20260424T003000Z
SUMMARY:Wootton Bassett Friday Social
DESCRIPTION:Come along and join our fantastic Swindon volunteers and others who need to live gluten free.  Everyone is welcome - there is no need to book - just turn up!
LOCATION:Dandelion Gifts and Coffee Shop, 49 High St, Royal Wootton Bassett SN4 7AQ
STATUS:CONFIRMED
TRANSP:OPAQUE
END:VEVENT
END:VCALENDAR
