BEGIN:VCALENDAR
VERSION:2.0
PRODID:-//Coeliac UK//NONSGML v1.0//EN
CALSCALE:GREGORIAN
METHOD:PUBLISH
BEGIN:VEVENT
UID:69e8ee73438cd@www.coeliac.org.uk
DTSTAMP:20260422T155115Z
DTSTART:20260518T100000Z
DTEND:20260518T153000Z
SUMMARY:Swindon Awareness Event
DESCRIPTION:Our Swindon volunteers will be hosting a stand in the Brighter Futures Hub at the Great Western Hospital to hand out leaflets and raise awareness of coeliac disease and Coeliac UK.  We\'d love to see you there!
LOCATION:The Brighter Futures Hub, Great Western Hospital, Marlborough Road, Swindon SN3 6BB
STATUS:CONFIRMED
TRANSP:OPAQUE
END:VEVENT
END:VCALENDAR
