BEGIN:VCALENDAR
VERSION:2.0
PRODID:-//Coeliac UK//NONSGML v1.0//EN
CALSCALE:GREGORIAN
METHOD:PUBLISH
BEGIN:VEVENT
UID:69e8ef385654e@www.coeliac.org.uk
DTSTAMP:20260422T155432Z
DTSTART:20260518T173000Z
DTEND:20260518T210000Z
SUMMARY:Royal Wootton Bassett All You Can Eat Chinese Buffet
DESCRIPTION:After another sell-out event, we’re excited to return to Oriental Aroma for an exclusive 100% gluten free Chinese banquet!
LOCATION:Oriental Aroma, 50 High St, Swindon SN4 7AQ
STATUS:CONFIRMED
TRANSP:OPAQUE
END:VEVENT
END:VCALENDAR
